BEGIN:VCALENDAR
VERSION:2.0
PRODID:-//DIGITAL FACTORY//EVENTS MAKER V1.6.14//EN
CALSCALE:GREGORIAN
BEGIN:VEVENT
DTEND:20200628
UID:69e7acc0cfd3d
DTSTAMP:20260421T165840Z
CATEGORIES:Scientific Meeting
LOCATION:The University of Manchester The University of Manchester\, Barnes Wallis Building\, Oxford Road, Manchester, M13 9PL, GB
ORGANIZER;
DESCRIPTION:Due to COVID-19 precautions  SLTBR 2020 Meeting – canceled    Webinars are being organized.    Please continue to visit the website for updates.    More Information: www.sltbr.org
URL;VALUE=URI:https://interchron.org/events-2/all-events/event/sltbr-32nd-annual-meeting-manchester-united-kingdom/
SUMMARY:SLTBR 32nd Annual Meeting\, Manchester\, United Kingdom
DTSTART:20200625
END:VEVENT
END:VCALENDAR
