BEGIN:VCALENDAR
VERSION:2.0
PRODID:-//DIGITAL FACTORY//EVENTS MAKER V1.6.14//EN
CALSCALE:GREGORIAN
BEGIN:VEVENT
DTEND:20190613
UID:69e5e67147de8
DTSTAMP:20260420T084017Z
CATEGORIES:Conference\,Congress\,Scientific Meeting\,Symposium
DESCRIPTION:SLEEP is the premier world forum to present and discuss the latest developments in clinical sleep medicine and sleep and circadian science.    The American Academy of Sleep Medicine is a professional membership organization dedicated to the advancement of sleep medicine with nearly 11\,000 individual and sleep facility members. The AASM’s mission is to improve sleep health and promote high quality patient-centered care through advocacy\, education\, strategic research and practice standards.    Join us next year as we visit the Lone Star State and host the 33rd annual SLEEP meeting in San Antonio\, Texas! We are already hard at work planning the meeting and preparing to make it even better than this year’s meeting. Continue to check back for update and information on abstract submissions\, speakers\, sponsors\, agendas\, and registration opening.    More Information: Website
URL;VALUE=URI:https://interchron.org/events-2/all-events/event/sleep-2019/
SUMMARY:SLEEP 2019
DTSTART:20190608
END:VEVENT
END:VCALENDAR
