BEGIN:VCALENDAR
VERSION:2.0
PRODID:-//DIGITAL FACTORY//EVENTS MAKER V1.6.14//EN
CALSCALE:GREGORIAN
BEGIN:VEVENT
DTEND:20161204
UID:69ea39a25c388
DTSTAMP:20260423T152418Z
LOCATION:Maritim Dresden, Internationales Congress Center Ostra-Ufer 2, Dresden, 01067, DE
ORGANIZER;CN=Dirk Eichelberger / Dorothee Gröninger:MAILTO:http://info@dgsm-kongress.de
DESCRIPTION:24. Jahrestagung der Deutschen Gesellschaft für Schlafforschung und Schlafmedizin (DGSM) e.V.  24th Annual Meeting of the German Society of Sleep Research and Sleep Medicine (DGSM)  Thema/Theme: Schlafmedizin: grenzüberschreitend und innovativ / Sleep Medicine: cross-border and innovative    Language: The main congress language is German\, but some lectures are in English.    More Information (in German): Website    Vorprogramm/Preliminary Program: Download PDF
URL;VALUE=URI:https://interchron.org/events-2/all-events/event/dgsm-kongress-24th-annual-meeting-dresden-germany/
SUMMARY:DGSM Kongress - 24th Annual Meeting\, Dresden\, Germany
DTSTART:20161201
END:VEVENT
END:VCALENDAR
