BEGIN:VCALENDAR
VERSION:2.0
PRODID:-//DIGITAL FACTORY//EVENTS MAKER V1.6.14//EN
CALSCALE:GREGORIAN
BEGIN:VEVENT
DTEND:20201012
UID:69e5e6701a5b4
DTSTAMP:20260420T084016Z
CATEGORIES:Conference
LOCATION:Kolkata, India Kolkata, West Bengal, IN
ORGANIZER;
DESCRIPTION:"South East Asian Academy of Sleep Medicine (SEAASM)" is an international society formed in 2013 to cater to the need of developing the field of sleep medicine.    As we all know that sleep disorders are the next looming epidemic in South East Asia\, SEAASM gives a platform to sleep physicians and clinicians from different specialties to come together and take forward this cause of promoting\, exchanging knowledge and enlightening the medical fraternity and public at large about sleep disorders.    The 6th International Conference on Sleep Disorders will be held October 9-11\, 2020 in Kolkata\, West Bengal (India).    More Information: www.seaasm.org/6th-icsd-2020-kolkata
URL;VALUE=URI:https://interchron.org/events-2/all-events/event/6th-international-conference-on-sleep-disorders/
SUMMARY:6th International Conference on Sleep Disorders
DTSTART:20201009
END:VEVENT
END:VCALENDAR
